BEGIN:VCALENDAR
VERSION:2.0
PRODID:-//Contratero//ES
CALSCALE:GREGORIAN
METHOD:PUBLISH
BEGIN:VEVENT
UID:ROSIA PCP 101017606@contratero.es
DTSTAMP:20260423T182400Z
DTSTART:20220630T235959
DTEND:20220701T005959
SUMMARY:Cierre: Pre-commercial Procurement The procurement aims to
DESCRIPTION:Pre-commercial Procurement The procurement aims to trigger new solutions to be developed and tested to address the following challenge: to unlock the tele-rehabilitation market by purchasing the devel...\\n\\nOrganismo: Instituto Aragonés de Ciencias de la Salud\\n\\nVer en Contratero: https://contratero.es/contracts/ROSIA PCP 101017606
URL:https://contratero.es/contracts/ROSIA PCP 101017606
STATUS:CONFIRMED
BEGIN:VALARM
TRIGGER:-P1D
ACTION:DISPLAY
DESCRIPTION:Recordatorio: Pre-commercial Procurement The
END:VALARM
END:VEVENT
END:VCALENDAR